BEGIN:VCALENDAR
VERSION:2.0
PRODID:-//Pride Festival of Central PA - ECPv6.15.20//NONSGML v1.0//EN
CALSCALE:GREGORIAN
METHOD:PUBLISH
X-WR-CALNAME:Pride Festival of Central PA
X-ORIGINAL-URL:https://centralpapride.org
X-WR-CALDESC:Events for Pride Festival of Central PA
REFRESH-INTERVAL;VALUE=DURATION:PT1H
X-Robots-Tag:noindex
X-PUBLISHED-TTL:PT1H
BEGIN:VTIMEZONE
TZID:America/New_York
BEGIN:DAYLIGHT
TZOFFSETFROM:-0500
TZOFFSETTO:-0400
TZNAME:EDT
DTSTART:20250309T070000
END:DAYLIGHT
BEGIN:STANDARD
TZOFFSETFROM:-0400
TZOFFSETTO:-0500
TZNAME:EST
DTSTART:20251102T060000
END:STANDARD
BEGIN:DAYLIGHT
TZOFFSETFROM:-0500
TZOFFSETTO:-0400
TZNAME:EDT
DTSTART:20260308T070000
END:DAYLIGHT
BEGIN:STANDARD
TZOFFSETFROM:-0400
TZOFFSETTO:-0500
TZNAME:EST
DTSTART:20261101T060000
END:STANDARD
BEGIN:DAYLIGHT
TZOFFSETFROM:-0500
TZOFFSETTO:-0400
TZNAME:EDT
DTSTART:20270314T070000
END:DAYLIGHT
BEGIN:STANDARD
TZOFFSETFROM:-0400
TZOFFSETTO:-0500
TZNAME:EST
DTSTART:20271107T060000
END:STANDARD
END:VTIMEZONE
BEGIN:VEVENT
DTSTART;TZID=America/New_York:20260328T200000
DTEND;TZID=America/New_York:20260328T200000
DTSTAMP:20260424T120300
CREATED:20250925T135850Z
LAST-MODIFIED:20260328T201354Z
UID:8208-1774728000-1774728000@centralpapride.org
SUMMARY:Lighting the Way to Pride 5
DESCRIPTION:Join us at the halfway point to the Pride Festival for an amazing night with the 14th season of RuPaul’s Drag Race All Stars season 9 winner winner\, Angeria Paris VanMichaels! \n  \nVIP tickets – Meet & Greet experience includes your M&G with Angeria Paris VanMichaels\, 1 drink ticket ($5 value)\, exclusive VIP bar access\, and food and snacks! \nBenefiting the Pride Festival of Central PA 2026!
URL:https://centralpapride.org/event/lighting-the-way-to-pride-5/
LOCATION:Karma Entertainment Complex\, 706 N. 3rd St.\, Harrisburg\, PA\, 17102\, United States
CATEGORIES:a fundraiser for Pride Festival of Central PA
ATTACH;FMTTYPE=image/png:https://centralpapride.org/wp-content/uploads/2025/09/1000024905.png
END:VEVENT
BEGIN:VEVENT
DTSTART;TZID=America/New_York:20260331T170000
DTEND;TZID=America/New_York:20260331T210000
DTSTAMP:20260424T120300
CREATED:20260226T134230Z
LAST-MODIFIED:20260226T134452Z
UID:9730-1774976400-1774990800@centralpapride.org
SUMMARY:
DESCRIPTION:Get ready for a night bursting with color\, community\, and celebration at Stealey’s Tavern — your friendly neighborhood gathering spot where everyone is welcome and the good vibes never stop! \nJoin us for an unforgettable Pride Night filled with delicious food\, refreshing drinks\, and a warm\, welcoming atmosphere that feels like home.
URL:https://centralpapride.org/event/9730/
LOCATION:Stealey’s Tavern\, 204 Verbeke Street\, Harrisburg
ATTACH;FMTTYPE=image/jpeg:https://centralpapride.org/wp-content/uploads/2026/02/Stealeys-Tavern.jpeg
END:VEVENT
BEGIN:VEVENT
DTSTART;TZID=America/New_York:20260412T160000
DTEND;TZID=America/New_York:20260412T200000
DTSTAMP:20260424T120300
CREATED:20260331T152025Z
LAST-MODIFIED:20260331T152932Z
UID:9909-1776009600-1776024000@centralpapride.org
SUMMARY:2nd Sunday in the City Dance Party
DESCRIPTION:
URL:https://centralpapride.org/event/2nd-sunday-in-the-city-dance-party/
LOCATION:704 Cielo Lounge/Deck\, 704 N. Third St\, Harrisburg\, PA\, United States
ATTACH;FMTTYPE=image/jpeg:https://centralpapride.org/wp-content/uploads/2026/03/1000026547-1.jpg
ORGANIZER;CN="Pride Festival of Central PA":MAILTO:info@centralpapride.org
END:VEVENT
BEGIN:VEVENT
DTSTART;TZID=America/New_York:20260425T210000
DTEND;TZID=America/New_York:20260425T235900
DTSTAMP:20260424T120300
CREATED:20260316T104218Z
LAST-MODIFIED:20260316T104619Z
UID:9838-1777150800-1777161540@centralpapride.org
SUMMARY:Pride Bowling Party
DESCRIPTION:
URL:https://centralpapride.org/event/pride-bowling-party/
LOCATION:ABC West Lanes\, 6454 Carlisle Pike\, Mechanicsbug\, PA\, 17050\, United States
ATTACH;FMTTYPE=image/jpeg:https://centralpapride.org/wp-content/uploads/2026/03/1000025867.jpg
END:VEVENT
BEGIN:VEVENT
DTSTART;TZID=America/New_York:20260510T160000
DTEND;TZID=America/New_York:20260510T200000
DTSTAMP:20260424T120300
CREATED:20260424T140846Z
LAST-MODIFIED:20260424T141337Z
UID:10017-1778428800-1778443200@centralpapride.org
SUMMARY:Second Sunday in the City Dance Party “Celebration of Mother’s Day” May
DESCRIPTION:Get ready for an unforgettable evening of music and movement! Step into an electrifying atmosphere filled with great vibes\, soulful beats\, and a vibrant crowd ready to dance the afternoon into evening. Whether you’re celebrating with Mom\, friends\, or just bringing your own beautiful energy\, this is the place to be.
URL:https://centralpapride.org/event/second-sunday-in-the-city-dance-party-celebration-of-mothers-day-may/
LOCATION:704 Cielo Lounge/Deck\, 704 N. Third St\, Harrisburg\, PA\, United States
ATTACH;FMTTYPE=image/jpeg:https://centralpapride.org/wp-content/uploads/2026/04/IMG_20260423_211621-1.jpg
END:VEVENT
BEGIN:VEVENT
DTSTART;TZID=America/New_York:20260529T220000
DTEND;TZID=America/New_York:20260529T235900
DTSTAMP:20260424T120300
CREATED:20260424T143255Z
LAST-MODIFIED:20260424T143531Z
UID:10024-1780092000-1780099140@centralpapride.org
SUMMARY:DEME GLENDA Memorial Tour Pride Benefit Show
DESCRIPTION:🌈✨ Get ready for a night of power\, pride\, and unforgettable performances! ✨🌈 \nExpect fierce talent\, stunning artistry\, and a night that honors pride while giving back. This is more than a show — it’s a movement\, a tribute\, and a celebration you won’t want to miss. 💖🔥 \n 
URL:https://centralpapride.org/event/deme-glenda-memorial-tour-pride-benefit-show/
LOCATION:704 Lounge\, 704 N. 3rd St.\, Harrisburg\, PA\, United States
ATTACH;FMTTYPE=image/jpeg:https://centralpapride.org/wp-content/uploads/2026/04/IMG_20260423_211629.jpg
END:VEVENT
BEGIN:VEVENT
DTSTART;TZID=America/New_York:20260603T183000
DTEND;TZID=America/New_York:20260603T220000
DTSTAMP:20260424T120300
CREATED:20260225T011614Z
LAST-MODIFIED:20260424T155404Z
UID:9726-1780511400-1780524000@centralpapride.org
SUMMARY:PRIDE NIGHT AT THE BALLPARK
DESCRIPTION:“It’s Pride Night at the ballpark\, and we’re here to celebrate love\, inclusivity\, and support for the LGBTQ+ community! Join us for a night filled with exciting activities\, great baseball\, and moments that highlight the beauty of diversity and unity”. \nGet your tickets at: https://www.gofevo.com/event/Pridefestival0603
URL:https://centralpapride.org/event/pride-night-at-the-ballpark/
LOCATION:Harrisburg Senators FNB Field\, 245 Championship Way\, Harrisburg\, PA\, 17101\, United States
ATTACH;FMTTYPE=image/jpeg:https://centralpapride.org/wp-content/uploads/2026/02/Senators-Pride-Night-2.jpg
END:VEVENT
BEGIN:VEVENT
DTSTART;TZID=America/New_York:20260613T160000
DTEND;TZID=America/New_York:20260613T180000
DTSTAMP:20260424T120300
CREATED:20260424T144917Z
LAST-MODIFIED:20260424T144917Z
UID:10030-1781366400-1781373600@centralpapride.org
SUMMARY:PRIDE SKATE
DESCRIPTION:Roll into joy\, pride\, and pure good vibes! 🌈✨Join us for an electrifying night of LGBTQIA+ roller skating\, where the music is hot\, the energy is high\, and everyone belongs. All ages are welcome—whether you’re a pro on wheels or just finding your groove. \nCome skate\, celebrate\, and shine—because pride looks better in motion!
URL:https://centralpapride.org/event/pride-skate/
LOCATION:Olympic Skating Rink\, 60 E. Shady Lane\, Enola\, PA\, 17070\, United States
ATTACH;FMTTYPE=image/jpeg:https://centralpapride.org/wp-content/uploads/2026/04/IMG_20260423_211633.jpg
END:VEVENT
BEGIN:VEVENT
DTSTART;TZID=America/New_York:20260725T110000
DTEND;TZID=America/New_York:20260725T180000
DTSTAMP:20260424T120300
CREATED:20250927T202445Z
LAST-MODIFIED:20250927T202551Z
UID:8233-1784977200-1785002400@centralpapride.org
SUMMARY:Pride Festival of Central PA 2026
DESCRIPTION:Mark your calendar and join us for the 34th Pride Festival of Central PA at Soldier’s Grove on the official Christmas in July. \nHappy Holigays!. \n 
URL:https://centralpapride.org/event/pride-festival-of-central-pa-2026/
LOCATION:Soldiers Grove\, 400 Commonwealth Avenue\, Harrisburg\, PA\, 17120\, United States
END:VEVENT
END:VCALENDAR